BEGIN:VCALENDAR
VERSION:2.0
METHOD:PUBLISH
PRODID:-//Telerik Inc.//Sitefinity CMS 13.1//EN
BEGIN:VTIMEZONE
TZID:Eastern Standard Time
BEGIN:STANDARD
DTSTART:20201102T020000
RRULE:FREQ=YEARLY;BYDAY=1SU;BYHOUR=2;BYMINUTE=0;BYMONTH=11
TZNAME:Eastern Standard Time
TZOFFSETFROM:-0400
TZOFFSETTO:-0500
END:STANDARD
BEGIN:DAYLIGHT
DTSTART:20200301T020000
RRULE:FREQ=YEARLY;BYDAY=2SU;BYHOUR=2;BYMINUTE=0;BYMONTH=3
TZNAME:Eastern Daylight Time
TZOFFSETFROM:-0500
TZOFFSETTO:-0400
END:DAYLIGHT
END:VTIMEZONE
BEGIN:VEVENT
DESCRIPTION:
DTEND:20211117T020000Z
DTSTAMP:20210615T103331Z
DTSTART:20211116T210000Z
LOCATION:KY\,Newport\,Hofbräuhaus Newport | 200 3rd St
SEQUENCE:0
SUMMARY:Ohio Valley Chapter Fall Meeting 
UID:RFCALITEM637593320113405006
X-ALT-DESC;FMTTYPE=text/html:
END:VEVENT
END:VCALENDAR
