BEGIN:VCALENDAR
VERSION:2.0
METHOD:PUBLISH
PRODID:-//Telerik Inc.//Sitefinity CMS 13.1//EN
BEGIN:VTIMEZONE
TZID:Eastern Standard Time
BEGIN:STANDARD
DTSTART:20201102T020000
RRULE:FREQ=YEARLY;BYDAY=1SU;BYHOUR=2;BYMINUTE=0;BYMONTH=11
TZNAME:Eastern Standard Time
TZOFFSETFROM:-0400
TZOFFSETTO:-0500
END:STANDARD
BEGIN:DAYLIGHT
DTSTART:20200301T020000
RRULE:FREQ=YEARLY;BYDAY=2SU;BYHOUR=2;BYMINUTE=0;BYMONTH=3
TZNAME:Eastern Daylight Time
TZOFFSETFROM:-0500
TZOFFSETTO:-0400
END:DAYLIGHT
END:VTIMEZONE
BEGIN:VEVENT
DESCRIPTION:Wednesday\, June 23\, 2021 | 2:00 &ndash\; 3:00 pm EDT\n\nOverv
 iew:\nFor decades\, the ISRI Scrap Specifications Circular has been an ess
 ential tool for how scrap recyclers conduct business. The ISRI Scrap Speci
 fications Circular provides guidelines for buying and selling a variety of
  processed scrap commodities\, including ferrous\, nonferrous\, paper\, pl
 astics\, electronics\, rubber\, and glass. \n\nJoin this webinar and learn
  why the circular is such an important tool for you\, how it can help bett
 er define your business deals and how ISRI advocates the circular as a gui
 de in international trade.\nSpeakers:\nAdina Renee Adler\, VP of Advocacy\
 , ISRI\nAndy Cohen\, Director of Nonferrous Trade\, Metal Conversions\, Lt
 d.\nRandy Goodman\, EVP\, Greenland America\, Inc.\nFees:\nThis webinar is
  FREE ISRI members and $195 for nonmembers.\nRegistration:\nTo register\, 
 to go&nbsp\;http://isrimeetings.expotracker.net&nbsp\;and select the ISRI 
 virtual event. Once you register\, you will receive an email with login in
 structions.\n\nYou must register to participate. Make sure to save the inf
 ormation in your calendar.&nbsp\;
DTEND:20210623T190000Z
DTSTAMP:20210523T033348Z
DTSTART:20210623T180000Z
LOCATION:
SEQUENCE:0
SUMMARY:Where\, Why and How ISRI Scrap Specifications Circular Plays A Cruc
 ial Role in Your Business Transactions
UID:RFCALITEM637573196284396477
X-ALT-DESC;FMTTYPE=text/html:<p>Wednesday\, June 23\, 2021 | 2:00 &ndash\; 
 3:00 pm EDT<br />\n<br />\n<strong>Overview:</strong><br />\nFor decades\,
  the <em>ISRI Scrap Specifications Circular</em> has been an essential too
 l for how scrap recyclers conduct business. The <em>ISRI <em>Scrap Specifi
 cations Circular</em></em> provides guidelines for buying and selling a va
 riety of processed scrap commodities\, including ferrous\, nonferrous\, pa
 per\, plastics\, electronics\, rubber\, and glass. <br />\n<br />\nJoin th
 is webinar and learn why the circular is such an important tool for you\, 
 how it can help better define your business deals and how ISRI advocates t
 he circular as a guide in international trade.</p>\n<p><strong>Speakers:<b
 r />\n</strong>Adina Renee Adler\, VP of Advocacy\, ISRI<br />\nAndy Cohen
 \, Director of Nonferrous Trade\, Metal Conversions\, Ltd.<br />\nRandy Go
 odman\, EVP\, Greenland America\, Inc.</p>\n<p><strong>Fees:</strong><br /
 >\nThis webinar is FREE ISRI members and $195 for nonmembers.</p>\n<p><str
 ong>Registration:</strong><br />\nTo register\, to go&nbsp\;<a href="http:
 //isrimeetings.expotracker.net/" data-feathr-click-track="true">http://isr
 imeetings.expotracker.net</a>&nbsp\;and select the ISRI virtual event. Onc
 e you register\, you will receive an email with login instructions.<br />\
 n<br />\n<em>You must register to participate. Make sure to save the infor
 mation in your calendar.&nbsp\;</em></p>
END:VEVENT
END:VCALENDAR
