BEGIN:VCALENDAR
VERSION:2.0
METHOD:PUBLISH
PRODID:-//Telerik Inc.//Sitefinity CMS 13.1//EN
BEGIN:VTIMEZONE
TZID:Eastern Standard Time
BEGIN:STANDARD
DTSTART:20201102T020000
RRULE:FREQ=YEARLY;BYDAY=1SU;BYHOUR=2;BYMINUTE=0;BYMONTH=11
TZNAME:Eastern Standard Time
TZOFFSETFROM:-0400
TZOFFSETTO:-0500
END:STANDARD
BEGIN:DAYLIGHT
DTSTART:20200301T020000
RRULE:FREQ=YEARLY;BYDAY=2SU;BYHOUR=2;BYMINUTE=0;BYMONTH=3
TZNAME:Eastern Daylight Time
TZOFFSETFROM:-0500
TZOFFSETTO:-0400
END:DAYLIGHT
END:VTIMEZONE
BEGIN:VEVENT
DESCRIPTION:**SAVE THE DATE** \n\nOhio Valley Chapter Golf Outing\nMonday\,
  August 9\, 2021\n\nBelterra Casino &amp\; Resort\nFlorence\, IN\n\nContac
 t Jeff Miller or Jim Wiseman with inquiries. 
DTEND:20210809T210000Z
DTSTAMP:20210615T103235Z
DTSTART:20210809T120000Z
LOCATION:IN\,Florence\,Belterra Casino & Resort
SEQUENCE:0
SUMMARY:Ohio Valley Chapter Golf Outing 
UID:RFCALITEM637593319557617145
X-ALT-DESC;FMTTYPE=text/html:<p style="text-align: center\;"><span style="c
 olor: #002060\; font-size: 18px\;"><span style="font-size: 20px\;"><strong
 >**SAVE THE DATE** </strong></span><br />\n<br />\nOhio Valley Chapter Gol
 f Outing<br />\nMonday\, August 9\, 2021<br />\n<br />\nBelterra Casino &a
 mp\; Resort<br />\nFlorence\, IN<br />\n<br />\nContact <a href="mailto:jc
 miller@progressrail.com">Jeff Miller</a> or <a href="mailto:jim.wiseman@sm
 artrmusa.com">Jim Wiseman</a> with inquiries. </span></p>
END:VEVENT
END:VCALENDAR
