BEGIN:VCALENDAR
VERSION:2.0
METHOD:PUBLISH
PRODID:-//Telerik Inc.//Sitefinity CMS 13.1//EN
BEGIN:VTIMEZONE
TZID:Eastern Standard Time
BEGIN:STANDARD
DTSTART:20201102T020000
RRULE:FREQ=YEARLY;BYDAY=1SU;BYHOUR=2;BYMINUTE=0;BYMONTH=11
TZNAME:Eastern Standard Time
TZOFFSETFROM:-0400
TZOFFSETTO:-0500
END:STANDARD
BEGIN:DAYLIGHT
DTSTART:20200301T020000
RRULE:FREQ=YEARLY;BYDAY=2SU;BYHOUR=2;BYMINUTE=0;BYMONTH=3
TZNAME:Eastern Daylight Time
TZOFFSETFROM:-0500
TZOFFSETTO:-0400
END:DAYLIGHT
END:VTIMEZONE
BEGIN:VEVENT
DESCRIPTION:**SAVE THE DATE**\n\nANNUAL VENDOR EXPO\nTUESDAY\, NOVEMBER&nbs
 p\;9\, 2021\n\nCheck back for updates!&nbsp\;\nFor immediate inquiries\,&n
 bsp\;contact Nancy Henry.
DTEND:20211109T060000Z
DTSTAMP:20210615T013314Z
DTSTART:20211109T050000Z
LOCATION:NY\,Niagara Falls\,Seneca Niagara Casino
SEQUENCE:0
SUMMARY:ISRI Empire Chapter Vendor Expo
UID:RFCALITEM637592995942777267
X-ALT-DESC;FMTTYPE=text/html:<p style="text-align: center\;"><span style="c
 olor: #0070c0\; font-size: 18px\;"><strong>**SAVE THE DATE**</strong><br /
 >\n<br />\nANNUAL VENDOR EXPO<br />\n<strong>TUESDAY\, NOVEMBER&nbsp\;9\, 
 2021</strong><br />\n<br />\nCheck back for updates!&nbsp\;<br />\nFor imm
 ediate inquiries\,&nbsp\;contact <a href="mailto:nhenry51@rochester.rr.com
 ">Nancy Henry</a>.</span></p>
END:VEVENT
END:VCALENDAR
